BEGIN:VCALENDAR
VERSION:2.0
PRODID:-//Les Armaillis d&#039;Echarlens - ECPv6.1.3//NONSGML v1.0//EN
CALSCALE:GREGORIAN
METHOD:PUBLISH
X-ORIGINAL-URL:https://lesarmaillis.ch
X-WR-CALDESC:évènements pour Les Armaillis d&#039;Echarlens
REFRESH-INTERVAL;VALUE=DURATION:PT1H
X-Robots-Tag:noindex
X-PUBLISHED-TTL:PT1H
BEGIN:VTIMEZONE
TZID:Europe/Zurich
BEGIN:DAYLIGHT
TZOFFSETFROM:+0100
TZOFFSETTO:+0200
TZNAME:CEST
DTSTART:20220327T010000
END:DAYLIGHT
BEGIN:STANDARD
TZOFFSETFROM:+0200
TZOFFSETTO:+0100
TZNAME:CET
DTSTART:20221030T010000
END:STANDARD
BEGIN:DAYLIGHT
TZOFFSETFROM:+0100
TZOFFSETTO:+0200
TZNAME:CEST
DTSTART:20230326T010000
END:DAYLIGHT
BEGIN:STANDARD
TZOFFSETFROM:+0200
TZOFFSETTO:+0100
TZNAME:CET
DTSTART:20231029T010000
END:STANDARD
BEGIN:DAYLIGHT
TZOFFSETFROM:+0100
TZOFFSETTO:+0200
TZNAME:CEST
DTSTART:20240331T010000
END:DAYLIGHT
BEGIN:STANDARD
TZOFFSETFROM:+0200
TZOFFSETTO:+0100
TZNAME:CET
DTSTART:20241027T010000
END:STANDARD
BEGIN:DAYLIGHT
TZOFFSETFROM:+0100
TZOFFSETTO:+0200
TZNAME:CEST
DTSTART:20250330T010000
END:DAYLIGHT
BEGIN:STANDARD
TZOFFSETFROM:+0200
TZOFFSETTO:+0100
TZNAME:CET
DTSTART:20251026T010000
END:STANDARD
BEGIN:DAYLIGHT
TZOFFSETFROM:+0100
TZOFFSETTO:+0200
TZNAME:CEST
DTSTART:20260329T010000
END:DAYLIGHT
BEGIN:STANDARD
TZOFFSETFROM:+0200
TZOFFSETTO:+0100
TZNAME:CET
DTSTART:20261025T010000
END:STANDARD
END:VTIMEZONE
BEGIN:VEVENT
DTSTART;TZID=Europe/Zurich:20260412T200000
DTEND;TZID=Europe/Zurich:20260412T220000
DTSTAMP:20260419T213215
CREATED:20251203T093358Z
LAST-MODIFIED:20251203T093358Z
UID:9868-1776024000-1776031200@lesarmaillis.ch
SUMMARY:Loto gastronomique
DESCRIPTION:
URL:https://lesarmaillis.ch/evenement/loto-gastronomique-3/
LOCATION:Echarlens\, Suisse
END:VEVENT
BEGIN:VEVENT
DTSTART;TZID=Europe/Zurich:20260308T200000
DTEND;TZID=Europe/Zurich:20260308T220000
DTSTAMP:20260419T213215
CREATED:20251203T093313Z
LAST-MODIFIED:20251203T093313Z
UID:9866-1773000000-1773007200@lesarmaillis.ch
SUMMARY:Loto gastronomique
DESCRIPTION:
URL:https://lesarmaillis.ch/evenement/loto-gastronomique-2/
LOCATION:Echarlens\, Suisse
END:VEVENT
BEGIN:VEVENT
DTSTART;TZID=Europe/Zurich:20260213T200000
DTEND;TZID=Europe/Zurich:20260214T200000
DTSTAMP:20260419T213215
CREATED:20251203T093206Z
LAST-MODIFIED:20251203T093206Z
UID:9864-1771012800-1771099200@lesarmaillis.ch
SUMMARY:Concert annuel
DESCRIPTION:
URL:https://lesarmaillis.ch/evenement/concert-annuel-3/
LOCATION:Riaz\, CO3
END:VEVENT
BEGIN:VEVENT
DTSTART;TZID=Europe/Zurich:20260118T200000
DTEND;TZID=Europe/Zurich:20260118T220000
DTSTAMP:20260419T213215
CREATED:20251203T093113Z
LAST-MODIFIED:20251203T093113Z
UID:9862-1768766400-1768773600@lesarmaillis.ch
SUMMARY:Loto gastronomique
DESCRIPTION:
URL:https://lesarmaillis.ch/evenement/loto-gastronomique/
LOCATION:Echarlens\, Suisse
END:VEVENT
BEGIN:VEVENT
DTSTART;VALUE=DATE:20260103
DTEND;VALUE=DATE:20260104
DTSTAMP:20260419T213215
CREATED:20251203T093539Z
LAST-MODIFIED:20251203T093539Z
UID:9870-1767398400-1767484799@lesarmaillis.ch
SUMMARY:Folie's fromage
DESCRIPTION:
URL:https://lesarmaillis.ch/evenement/folies-fromage-5/
LOCATION:Echarlens\, Suisse
END:VEVENT
BEGIN:VEVENT
DTSTART;TZID=Europe/Zurich:20250904T180000
DTEND;TZID=Europe/Zurich:20250904T190000
DTSTAMP:20260419T213215
CREATED:20250830T104236Z
LAST-MODIFIED:20250830T104236Z
UID:9847-1757008800-1757012400@lesarmaillis.ch
SUMMARY:Répétition découverte pour jeunes musiciens
DESCRIPTION:
URL:https://lesarmaillis.ch/evenement/repetition-decouverte-pour-jeunes-musiciens/
LOCATION:Echarlens\, Suisse
END:VEVENT
BEGIN:VEVENT
DTSTART;VALUE=DATE:20250527
DTEND;VALUE=DATE:20250602
DTSTAMP:20260419T213215
CREATED:20241117T094946Z
LAST-MODIFIED:20241117T094946Z
UID:9815-1748304000-1748822399@lesarmaillis.ch
SUMMARY:Cantonale 2025 - Gruezik
DESCRIPTION:
URL:https://lesarmaillis.ch/evenement/cantonale-2025-gruezik/
LOCATION:Bulle\, Bulle\, 1630\, Suisse
END:VEVENT
BEGIN:VEVENT
DTSTART;TZID=Europe/Zurich:20250309T200000
DTEND;TZID=Europe/Zurich:20250309T220000
DTSTAMP:20260419T213215
CREATED:20241117T094615Z
LAST-MODIFIED:20241117T094615Z
UID:9813-1741550400-1741557600@lesarmaillis.ch
SUMMARY:Loto à Echarlens
DESCRIPTION:
URL:https://lesarmaillis.ch/evenement/loto-a-echarlens-3/
LOCATION:Echarlens\, Suisse
END:VEVENT
BEGIN:VEVENT
DTSTART;TZID=Europe/Zurich:20250207T200000
DTEND;TZID=Europe/Zurich:20250208T200000
DTSTAMP:20260419T213215
CREATED:20241117T094537Z
LAST-MODIFIED:20250203T183616Z
UID:9811-1738958400-1739044800@lesarmaillis.ch
SUMMARY:Concert annuel à Riaz
DESCRIPTION:
URL:https://lesarmaillis.ch/evenement/concert-annuel-a-riaz/
LOCATION:Riaz\, CO3
END:VEVENT
BEGIN:VEVENT
DTSTART;TZID=Europe/Zurich:20250119T200000
DTEND;TZID=Europe/Zurich:20250119T220000
DTSTAMP:20260419T213215
CREATED:20241117T094422Z
LAST-MODIFIED:20241117T094422Z
UID:9809-1737316800-1737324000@lesarmaillis.ch
SUMMARY:Loto à Echarlens
DESCRIPTION:
URL:https://lesarmaillis.ch/evenement/loto-a-echarlens-2/
LOCATION:Echarlens\, Suisse
END:VEVENT
BEGIN:VEVENT
DTSTART;VALUE=DATE:20250104
DTEND;VALUE=DATE:20250105
DTSTAMP:20260419T213215
CREATED:20241117T094341Z
LAST-MODIFIED:20241218T075830Z
UID:9807-1735948800-1736035199@lesarmaillis.ch
SUMMARY:Folie's Fromage
DESCRIPTION:
URL:https://lesarmaillis.ch/evenement/folies-fromage-4/
LOCATION:Echarlens\, Suisse
END:VEVENT
BEGIN:VEVENT
DTSTART;TZID=Europe/Zurich:20241215T200000
DTEND;TZID=Europe/Zurich:20241215T220000
DTSTAMP:20260419T213215
CREATED:20241117T094302Z
LAST-MODIFIED:20241117T094302Z
UID:9805-1734292800-1734300000@lesarmaillis.ch
SUMMARY:Loto à Echarlens
DESCRIPTION:
URL:https://lesarmaillis.ch/evenement/loto-a-echarlens/
LOCATION:Echarlens\, Suisse
END:VEVENT
BEGIN:VEVENT
DTSTART;TZID=Europe/Zurich:20241117T200000
DTEND;TZID=Europe/Zurich:20241117T220000
DTSTAMP:20260419T213215
CREATED:20241117T094207Z
LAST-MODIFIED:20241117T094207Z
UID:9802-1731873600-1731880800@lesarmaillis.ch
SUMMARY:Loto à Riaz
DESCRIPTION:
URL:https://lesarmaillis.ch/evenement/loto-a-riaz/
LOCATION:Riaz\, CO3
END:VEVENT
BEGIN:VEVENT
DTSTART;VALUE=DATE:20241001
DTEND;VALUE=DATE:20250216
DTSTAMP:20260419T213216
CREATED:20250207T080457Z
LAST-MODIFIED:20250207T081434Z
UID:9826-1727740800-1739663999@lesarmaillis.ch
SUMMARY:Recherche directeur / directrice
DESCRIPTION:Les Armaillis d’Echarlens recherchent\n\nUN/E DIRECTEUR/TRICE\npour septembre 2025 \n\nFormation brass band\nRépétitions le mardi et le jeudi\n\nAinsi qu’un/e directeur/trice pour notre clique de tambours: \n\nRépétitions 2x/mois\n\nFaites nous parvenir votre candidature accompagnée de votre CV à presidence@lesarmaillis.ch jusqu’au 15 février 2025. \nRenseignements au 079 192 64 84.
URL:https://lesarmaillis.ch/evenement/recherche-directeur-directrice/
END:VEVENT
BEGIN:VEVENT
DTSTART;VALUE=DATE:20240825
DTEND;VALUE=DATE:20240826
DTSTAMP:20260419T213216
CREATED:20231012T201921Z
LAST-MODIFIED:20240806T201929Z
UID:9777-1724544000-1724630399@lesarmaillis.ch
SUMMARY:Rallye villageois
DESCRIPTION:
URL:https://lesarmaillis.ch/evenement/rallye-villageois-2/
LOCATION:Echarlens\, Suisse
END:VEVENT
BEGIN:VEVENT
DTSTART;VALUE=DATE:20240517
DTEND;VALUE=DATE:20240520
DTSTAMP:20260419T213216
CREATED:20231012T201844Z
LAST-MODIFIED:20231012T201844Z
UID:9775-1715904000-1716163199@lesarmaillis.ch
SUMMARY:Fête des musiques Gruyèrienne
DESCRIPTION:Nous nous produirons lors du concours en salle et concours en marche ainsi qu’au cortège du dimanche.
URL:https://lesarmaillis.ch/evenement/fete-des-musiques-gruyerienne/
LOCATION:Riaz\, CO3
END:VEVENT
BEGIN:VEVENT
DTSTART;TZID=Europe/Zurich:20240317T200000
DTEND;TZID=Europe/Zurich:20240317T220000
DTSTAMP:20260419T213216
CREATED:20231012T201356Z
LAST-MODIFIED:20231012T201356Z
UID:9773-1710705600-1710712800@lesarmaillis.ch
SUMMARY:Loto
DESCRIPTION:
URL:https://lesarmaillis.ch/evenement/loto-6/
LOCATION:Echarlens\, Suisse
END:VEVENT
BEGIN:VEVENT
DTSTART;TZID=Europe/Zurich:20240126T200000
DTEND;TZID=Europe/Zurich:20240127T200000
DTSTAMP:20260419T213216
CREATED:20231012T201139Z
LAST-MODIFIED:20240118T122700Z
UID:9770-1706299200-1706385600@lesarmaillis.ch
SUMMARY:Concert annuel
DESCRIPTION:Nous nous réjouissons de vous présenter le fruit de notre travail à la salle CO3 à Riaz.
URL:https://lesarmaillis.ch/evenement/concert-annuel-2/
LOCATION:Riaz\, CO3
END:VEVENT
BEGIN:VEVENT
DTSTART;TZID=Europe/Zurich:20240114T200000
DTEND;TZID=Europe/Zurich:20240114T220000
DTSTAMP:20260419T213216
CREATED:20231012T200913Z
LAST-MODIFIED:20231012T200913Z
UID:9768-1705262400-1705269600@lesarmaillis.ch
SUMMARY:Loto
DESCRIPTION:
URL:https://lesarmaillis.ch/evenement/loto-5/
LOCATION:Echarlens\, Suisse
END:VEVENT
BEGIN:VEVENT
DTSTART;VALUE=DATE:20240106
DTEND;VALUE=DATE:20240107
DTSTAMP:20260419T213216
CREATED:20231012T200812Z
LAST-MODIFIED:20231229T100016Z
UID:9766-1704499200-1704585599@lesarmaillis.ch
SUMMARY:Folie's Fromage
DESCRIPTION:
URL:https://lesarmaillis.ch/evenement/folies-fromage-3/
LOCATION:Echarlens\, Suisse
END:VEVENT
BEGIN:VEVENT
DTSTART;TZID=Europe/Zurich:20231210T200000
DTEND;TZID=Europe/Zurich:20231210T220000
DTSTAMP:20260419T213216
CREATED:20231012T200549Z
LAST-MODIFIED:20231012T200549Z
UID:9764-1702238400-1702245600@lesarmaillis.ch
SUMMARY:Loto
DESCRIPTION:
URL:https://lesarmaillis.ch/evenement/loto-4/
LOCATION:Echarlens\, Suisse
END:VEVENT
BEGIN:VEVENT
DTSTART;TZID=Europe/Zurich:20230827T090000
DTEND;TZID=Europe/Zurich:20230827T170000
DTSTAMP:20260419T213216
CREATED:20221003T175109Z
LAST-MODIFIED:20230807T093308Z
UID:9728-1693126800-1693155600@lesarmaillis.ch
SUMMARY:Rallye villageois
DESCRIPTION:
URL:https://lesarmaillis.ch/evenement/rallye-villageois/
LOCATION:Echarlens\, Suisse
END:VEVENT
BEGIN:VEVENT
DTSTART;TZID=Europe/Zurich:20230512T180000
DTEND;TZID=Europe/Zurich:20230514T180000
DTSTAMP:20260419T213216
CREATED:20221003T175023Z
LAST-MODIFIED:20221003T175023Z
UID:9725-1683914400-1684087200@lesarmaillis.ch
SUMMARY:Fête des musiques Gruyèrienne - Le Pâquier
DESCRIPTION:
URL:https://lesarmaillis.ch/evenement/fete-des-musiques-gruyerienne-le-paquier/
LOCATION:Le Pâquier
END:VEVENT
BEGIN:VEVENT
DTSTART;TZID=Europe/Zurich:20230402T200000
DTEND;TZID=Europe/Zurich:20230402T223000
DTSTAMP:20260419T213216
CREATED:20221003T174914Z
LAST-MODIFIED:20221003T174914Z
UID:9723-1680465600-1680474600@lesarmaillis.ch
SUMMARY:Loto
DESCRIPTION:
URL:https://lesarmaillis.ch/evenement/loto-3/
LOCATION:Echarlens\, Suisse
END:VEVENT
BEGIN:VEVENT
DTSTART;TZID=Europe/Zurich:20230312T200000
DTEND;TZID=Europe/Zurich:20230312T223000
DTSTAMP:20260419T213216
CREATED:20221003T174825Z
LAST-MODIFIED:20221003T174825Z
UID:9721-1678651200-1678660200@lesarmaillis.ch
SUMMARY:Loto
DESCRIPTION:
URL:https://lesarmaillis.ch/evenement/loto-2/
LOCATION:Echarlens\, Suisse
END:VEVENT
BEGIN:VEVENT
DTSTART;TZID=Europe/Zurich:20230210T200000
DTEND;TZID=Europe/Zurich:20230211T230000
DTSTAMP:20260419T213216
CREATED:20221003T174744Z
LAST-MODIFIED:20221003T174744Z
UID:9719-1676059200-1676156400@lesarmaillis.ch
SUMMARY:Concert annuel
DESCRIPTION:
URL:https://lesarmaillis.ch/evenement/concert-annuel/
LOCATION:Riaz\, CO3
END:VEVENT
BEGIN:VEVENT
DTSTART;TZID=Europe/Zurich:20230107T110000
DTEND;TZID=Europe/Zurich:20230108T030000
DTSTAMP:20260419T213216
CREATED:20221003T174639Z
LAST-MODIFIED:20221003T174639Z
UID:9717-1673089200-1673146800@lesarmaillis.ch
SUMMARY:Folie's Fromage
DESCRIPTION:
URL:https://lesarmaillis.ch/evenement/folies-fromage-2/
LOCATION:Echarlens\, Suisse
END:VEVENT
BEGIN:VEVENT
DTSTART;TZID=Europe/Zurich:20221218T200000
DTEND;TZID=Europe/Zurich:20221218T223000
DTSTAMP:20260419T213216
CREATED:20221003T174516Z
LAST-MODIFIED:20221003T174516Z
UID:9715-1671393600-1671402600@lesarmaillis.ch
SUMMARY:Loto
DESCRIPTION:
URL:https://lesarmaillis.ch/evenement/loto/
LOCATION:Echarlens\, Suisse
END:VEVENT
BEGIN:VEVENT
DTSTART;TZID=Europe/Zurich:20220603T200000
DTEND;TZID=Europe/Zurich:20220604T200000
DTSTAMP:20260419T213216
CREATED:20211215T175323Z
LAST-MODIFIED:20220522T205018Z
UID:9683-1654286400-1654372800@lesarmaillis.ch
SUMMARY:Concert annuel 2022
DESCRIPTION:Nous nous réjouissons de vous retrouver lors de notre concert annuel pour vous présenter notre programme de la saison 2021-2022.
URL:https://lesarmaillis.ch/evenement/concert-annuel-2022/
LOCATION:Riaz\, CO3
END:VEVENT
BEGIN:VEVENT
DTSTART;TZID=Europe/Zurich:20220122T140000
DTEND;TZID=Europe/Zurich:20220122T233000
DTSTAMP:20260419T213216
CREATED:20211215T175628Z
LAST-MODIFIED:20211215T180053Z
UID:9692-1642860000-1642894200@lesarmaillis.ch
SUMMARY:Folie's fromage
DESCRIPTION:Après une édition manquée\, Folie’s fromage est de retour sous une forme différente. Nous vous attendez nombreux au match aux cartes ainsi qu’à la soirée fondue. N’oubliez pas de vous inscrire pour le souper.
URL:https://lesarmaillis.ch/evenement/folies-fromage/
LOCATION:Echarlens\, Suisse
END:VEVENT
END:VCALENDAR